BEGIN:VCALENDAR
VERSION:2.0
PRODID:-//IMPROV NIAGARA - ECPv6.15.20//NONSGML v1.0//EN
CALSCALE:GREGORIAN
METHOD:PUBLISH
X-ORIGINAL-URL:https://improvniagara.com
X-WR-CALDESC:Events for IMPROV NIAGARA
REFRESH-INTERVAL;VALUE=DURATION:PT1H
X-Robots-Tag:noindex
X-PUBLISHED-TTL:PT1H
BEGIN:VTIMEZONE
TZID:America/Toronto
BEGIN:DAYLIGHT
TZOFFSETFROM:-0500
TZOFFSETTO:-0400
TZNAME:EDT
DTSTART:20240310T070000
END:DAYLIGHT
BEGIN:STANDARD
TZOFFSETFROM:-0400
TZOFFSETTO:-0500
TZNAME:EST
DTSTART:20241103T060000
END:STANDARD
BEGIN:DAYLIGHT
TZOFFSETFROM:-0500
TZOFFSETTO:-0400
TZNAME:EDT
DTSTART:20250309T070000
END:DAYLIGHT
BEGIN:STANDARD
TZOFFSETFROM:-0400
TZOFFSETTO:-0500
TZNAME:EST
DTSTART:20251102T060000
END:STANDARD
BEGIN:DAYLIGHT
TZOFFSETFROM:-0500
TZOFFSETTO:-0400
TZNAME:EDT
DTSTART:20260308T070000
END:DAYLIGHT
BEGIN:STANDARD
TZOFFSETFROM:-0400
TZOFFSETTO:-0500
TZNAME:EST
DTSTART:20261101T060000
END:STANDARD
END:VTIMEZONE
BEGIN:VEVENT
DTSTART;TZID=America/Toronto:20251227T003000
DTEND;TZID=America/Toronto:20251227T213000
DTSTAMP:20260419T140506
CREATED:20251215T185507Z
LAST-MODIFIED:20251215T185648Z
UID:10000120-1766795400-1766871000@improvniagara.com
SUMMARY:nice cans: a comedy show for a nice cause
DESCRIPTION:Live improv comedy to help our community. \n\n\n\nImprov Niagara presents NICE CANS! A comedy show turned fundraiser / food drive to help our local food bank feed people in need. \n\n\n\nThis show is in that sweet spot between Christmas and New Years\, so come on out in your comfies\, grab a tasty drink or treat from Mahtay Café’s bar or bakery and let’s spend a bit of time this holiday season having some laughs. \n\n\n\nFeaturing: \n\n\n\nBrie Watson \n\n\n\nDan Dingwall \n\n\n\nDeanna Herbert \n\n\n\nDina Senior \n\n\n\nHeather Eyman & \n\n\n\nJamie Roboz \n\n\n\nTickets cost $15 or show up with some canned goods or non-perishable food items\, and let’s have some holiday cheer! \n\n\nRegister on Eventbrite
URL:https://improvniagara.com/event/nice-cans-a-comedy-show-for-a-nice-cause/
LOCATION:Mahtay Café & Lounge\, 241 Saint Paul Street\, St. Catharines\, ON\, L2R 3M7\, Canada
CATEGORIES:Fundraiser
ATTACH;FMTTYPE=image/png:https://improvniagara.com/wp-content/uploads/2025/12/nice-cans.png
END:VEVENT
END:VCALENDAR